BEGIN:VCALENDAR
VERSION:2.0
PRODID:-//13th International District - ECPv6.15.20//NONSGML v1.0//EN
CALSCALE:GREGORIAN
METHOD:PUBLISH
X-WR-CALNAME:13th International District
X-ORIGINAL-URL:https://oppf13th.org
X-WR-CALDESC:Events for 13th International District
REFRESH-INTERVAL;VALUE=DURATION:PT1H
X-Robots-Tag:noindex
X-PUBLISHED-TTL:PT1H
BEGIN:VTIMEZONE
TZID:UTC
BEGIN:STANDARD
TZOFFSETFROM:+0000
TZOFFSETTO:+0000
TZNAME:UTC
DTSTART:20240101T000000
END:STANDARD
END:VTIMEZONE
BEGIN:VEVENT
DTSTART;VALUE=DATE:20250131
DTEND;VALUE=DATE:20250201
DTSTAMP:20260420T064402
CREATED:20240806T165115Z
LAST-MODIFIED:20240806T165115Z
UID:3428-1738281600-1738367999@oppf13th.org
SUMMARY:1st Quarter Reports Due
DESCRIPTION:
URL:https://oppf13th.org/calendar/1st-quarter-reports-due/
END:VEVENT
END:VCALENDAR