BEGIN:VCALENDAR
VERSION:2.0
PRODID:-//13th International District - ECPv6.15.20//NONSGML v1.0//EN
CALSCALE:GREGORIAN
METHOD:PUBLISH
X-WR-CALNAME:13th International District
X-ORIGINAL-URL:https://oppf13th.org
X-WR-CALDESC:Events for 13th International District
REFRESH-INTERVAL;VALUE=DURATION:PT1H
X-Robots-Tag:noindex
X-PUBLISHED-TTL:PT1H
BEGIN:VTIMEZONE
TZID:UTC
BEGIN:STANDARD
TZOFFSETFROM:+0000
TZOFFSETTO:+0000
TZNAME:UTC
DTSTART:20240101T000000
END:STANDARD
END:VTIMEZONE
BEGIN:VTIMEZONE
TZID:America/New_York
BEGIN:DAYLIGHT
TZOFFSETFROM:-0500
TZOFFSETTO:-0400
TZNAME:EDT
DTSTART:20240310T070000
END:DAYLIGHT
BEGIN:STANDARD
TZOFFSETFROM:-0400
TZOFFSETTO:-0500
TZNAME:EST
DTSTART:20241103T060000
END:STANDARD
BEGIN:DAYLIGHT
TZOFFSETFROM:-0500
TZOFFSETTO:-0400
TZNAME:EDT
DTSTART:20250309T070000
END:DAYLIGHT
BEGIN:STANDARD
TZOFFSETFROM:-0400
TZOFFSETTO:-0500
TZNAME:EST
DTSTART:20251102T060000
END:STANDARD
BEGIN:DAYLIGHT
TZOFFSETFROM:-0500
TZOFFSETTO:-0400
TZNAME:EDT
DTSTART:20260308T070000
END:DAYLIGHT
BEGIN:STANDARD
TZOFFSETFROM:-0400
TZOFFSETTO:-0500
TZNAME:EST
DTSTART:20261101T060000
END:STANDARD
END:VTIMEZONE
BEGIN:VEVENT
DTSTART;VALUE=DATE:20250201
DTEND;VALUE=DATE:20250202
DTSTAMP:20260420T064226
CREATED:20240806T061357Z
LAST-MODIFIED:20240806T061357Z
UID:3398-1738368000-1738454399@oppf13th.org
SUMMARY:National Essay Contest (District Deadline)
DESCRIPTION:
URL:https://oppf13th.org/calendar/national-essay-contest-district-deadline/
END:VEVENT
BEGIN:VEVENT
DTSTART;VALUE=DATE:20250201
DTEND;VALUE=DATE:20250202
DTSTAMP:20260420T064226
CREATED:20240806T165127Z
LAST-MODIFIED:20240806T165127Z
UID:3434-1738368000-1738454399@oppf13th.org
SUMMARY:Social Action Chapter of the Year Submissions (District Level)
DESCRIPTION:
URL:https://oppf13th.org/calendar/social-action-chapter-of-the-year-submissions-district-level/
END:VEVENT
BEGIN:VEVENT
DTSTART;TZID=America/New_York:20250201T120000
DTEND;TZID=America/New_York:20250201T120000
DTSTAMP:20260420T064226
CREATED:20240807T173620Z
LAST-MODIFIED:20240807T173620Z
UID:3503-1738411200-1738411200@oppf13th.org
SUMMARY:KRS Synch
DESCRIPTION:
URL:https://oppf13th.org/calendar/krs-synch-3/
END:VEVENT
END:VCALENDAR