BEGIN:VCALENDAR
VERSION:2.0
PRODID:-//13th International District - ECPv6.15.20//NONSGML v1.0//EN
CALSCALE:GREGORIAN
METHOD:PUBLISH
X-WR-CALNAME:13th International District
X-ORIGINAL-URL:https://oppf13th.org
X-WR-CALDESC:Events for 13th International District
REFRESH-INTERVAL;VALUE=DURATION:PT1H
X-Robots-Tag:noindex
X-PUBLISHED-TTL:PT1H
BEGIN:VTIMEZONE
TZID:UTC
BEGIN:STANDARD
TZOFFSETFROM:+0000
TZOFFSETTO:+0000
TZNAME:UTC
DTSTART:20240101T000000
END:STANDARD
END:VTIMEZONE
BEGIN:VEVENT
DTSTART;VALUE=DATE:20250501
DTEND;VALUE=DATE:20250502
DTSTAMP:20260420T003822
CREATED:20240806T061439Z
LAST-MODIFIED:20240806T061439Z
UID:3400-1746057600-1746143999@oppf13th.org
SUMMARY:National Essay Contest (IHQ Deadline)
DESCRIPTION:
URL:https://oppf13th.org/calendar/national-essay-contest-ihq-deadline/
END:VEVENT
BEGIN:VEVENT
DTSTART;VALUE=DATE:20250501
DTEND;VALUE=DATE:20250502
DTSTAMP:20260420T003822
CREATED:20240806T165116Z
LAST-MODIFIED:20240806T165116Z
UID:3432-1746057600-1746143999@oppf13th.org
SUMMARY:Scholarship Submissions Due to IHQ (TBC)
DESCRIPTION:
URL:https://oppf13th.org/calendar/scholarship-submissions-due-to-ihq-tbc/
END:VEVENT
END:VCALENDAR