BEGIN:VCALENDAR
VERSION:2.0
PRODID:-//13th International District - ECPv6.15.20//NONSGML v1.0//EN
CALSCALE:GREGORIAN
METHOD:PUBLISH
X-WR-CALNAME:13th International District
X-ORIGINAL-URL:https://oppf13th.org
X-WR-CALDESC:Events for 13th International District
REFRESH-INTERVAL;VALUE=DURATION:PT1H
X-Robots-Tag:noindex
X-PUBLISHED-TTL:PT1H
BEGIN:VTIMEZONE
TZID:UTC
BEGIN:STANDARD
TZOFFSETFROM:+0000
TZOFFSETTO:+0000
TZNAME:UTC
DTSTART:20230101T000000
END:STANDARD
END:VTIMEZONE
BEGIN:VTIMEZONE
TZID:America/New_York
BEGIN:DAYLIGHT
TZOFFSETFROM:-0500
TZOFFSETTO:-0400
TZNAME:EDT
DTSTART:20230312T070000
END:DAYLIGHT
BEGIN:STANDARD
TZOFFSETFROM:-0400
TZOFFSETTO:-0500
TZNAME:EST
DTSTART:20231105T060000
END:STANDARD
BEGIN:DAYLIGHT
TZOFFSETFROM:-0500
TZOFFSETTO:-0400
TZNAME:EDT
DTSTART:20240310T070000
END:DAYLIGHT
BEGIN:STANDARD
TZOFFSETFROM:-0400
TZOFFSETTO:-0500
TZNAME:EST
DTSTART:20241103T060000
END:STANDARD
BEGIN:DAYLIGHT
TZOFFSETFROM:-0500
TZOFFSETTO:-0400
TZNAME:EDT
DTSTART:20250309T070000
END:DAYLIGHT
BEGIN:STANDARD
TZOFFSETFROM:-0400
TZOFFSETTO:-0500
TZNAME:EST
DTSTART:20251102T060000
END:STANDARD
END:VTIMEZONE
BEGIN:VEVENT
DTSTART;VALUE=DATE:20241101
DTEND;VALUE=DATE:20250101
DTSTAMP:20260421T162558
CREATED:20240806T061742Z
LAST-MODIFIED:20240806T061742Z
UID:3402-1730419200-1735689599@oppf13th.org
SUMMARY:CEF/Insurance Due
DESCRIPTION:
URL:https://oppf13th.org/calendar/cef-insurance-due/
END:VEVENT
BEGIN:VEVENT
DTSTART;VALUE=DATE:20241101
DTEND;VALUE=DATE:20250101
DTSTAMP:20260421T162558
CREATED:20240806T064137Z
LAST-MODIFIED:20240806T064137Z
UID:3413-1730419200-1735689599@oppf13th.org
SUMMARY:Chapter/District/IHQ Dues
DESCRIPTION:
URL:https://oppf13th.org/calendar/chapter-district-ihq-dues/
END:VEVENT
BEGIN:VEVENT
DTSTART;TZID=UTC:20241101T080000
DTEND;TZID=UTC:20241231T170000
DTSTAMP:20260421T162558
CREATED:20240806T062120Z
LAST-MODIFIED:20240806T062120Z
UID:3404-1730448000-1735664400@oppf13th.org
SUMMARY:District Assessment
DESCRIPTION:
URL:https://oppf13th.org/calendar/district-assessment/
END:VEVENT
BEGIN:VEVENT
DTSTART;TZID=America/New_York:20241207T070000
DTEND;TZID=America/New_York:20241207T070000
DTSTAMP:20260421T162558
CREATED:20240807T173619Z
LAST-MODIFIED:20240807T173619Z
UID:3502-1733554800-1733554800@oppf13th.org
SUMMARY:KRS Synch
DESCRIPTION:
URL:https://oppf13th.org/calendar/krs-synch-2/
END:VEVENT
BEGIN:VEVENT
DTSTART;TZID=America/New_York:20241214T103000
DTEND;TZID=America/New_York:20241214T103000
DTSTAMP:20260421T162558
CREATED:20240807T173544Z
LAST-MODIFIED:20240807T173544Z
UID:3484-1734172200-1734172200@oppf13th.org
SUMMARY:Quarterly District Conference Call
DESCRIPTION:
URL:https://oppf13th.org/calendar/quarterly-district-conference-call-2/
END:VEVENT
BEGIN:VEVENT
DTSTART;VALUE=DATE:20241220
DTEND;VALUE=DATE:20241221
DTSTAMP:20260421T162558
CREATED:20240806T062800Z
LAST-MODIFIED:20240806T062942Z
UID:3406-1734652800-1734739199@oppf13th.org
SUMMARY:Talent Hunt - Chapter Deadline
DESCRIPTION:
URL:https://oppf13th.org/calendar/talent-hunt-chapter-deadline/
END:VEVENT
END:VCALENDAR