BEGIN:VCALENDAR
VERSION:2.0
PRODID:-//13th International District - ECPv6.15.20//NONSGML v1.0//EN
CALSCALE:GREGORIAN
METHOD:PUBLISH
X-WR-CALNAME:13th International District
X-ORIGINAL-URL:https://oppf13th.org
X-WR-CALDESC:Events for 13th International District
REFRESH-INTERVAL;VALUE=DURATION:PT1H
X-Robots-Tag:noindex
X-PUBLISHED-TTL:PT1H
BEGIN:VTIMEZONE
TZID:America/New_York
BEGIN:DAYLIGHT
TZOFFSETFROM:-0500
TZOFFSETTO:-0400
TZNAME:EDT
DTSTART:20240310T070000
END:DAYLIGHT
BEGIN:STANDARD
TZOFFSETFROM:-0400
TZOFFSETTO:-0500
TZNAME:EST
DTSTART:20241103T060000
END:STANDARD
BEGIN:DAYLIGHT
TZOFFSETFROM:-0500
TZOFFSETTO:-0400
TZNAME:EDT
DTSTART:20250309T070000
END:DAYLIGHT
BEGIN:STANDARD
TZOFFSETFROM:-0400
TZOFFSETTO:-0500
TZNAME:EST
DTSTART:20251102T060000
END:STANDARD
BEGIN:DAYLIGHT
TZOFFSETFROM:-0500
TZOFFSETTO:-0400
TZNAME:EDT
DTSTART:20260308T070000
END:DAYLIGHT
BEGIN:STANDARD
TZOFFSETFROM:-0400
TZOFFSETTO:-0500
TZNAME:EST
DTSTART:20261101T060000
END:STANDARD
END:VTIMEZONE
BEGIN:VTIMEZONE
TZID:UTC
BEGIN:STANDARD
TZOFFSETFROM:+0000
TZOFFSETTO:+0000
TZNAME:UTC
DTSTART:20240101T000000
END:STANDARD
END:VTIMEZONE
BEGIN:VEVENT
DTSTART;TZID=America/New_York:20250104T120000
DTEND;TZID=America/New_York:20250104T120000
DTSTAMP:20260420T064433
CREATED:20240807T173619Z
LAST-MODIFIED:20240807T173619Z
UID:3499-1735992000-1735992000@oppf13th.org
SUMMARY:Bi-Monthly Basileus Call
DESCRIPTION:
URL:https://oppf13th.org/calendar/bi-monthly-basileus-call-3/
END:VEVENT
BEGIN:VEVENT
DTSTART;VALUE=DATE:20250107
DTEND;VALUE=DATE:20250108
DTSTAMP:20260420T064433
CREATED:20240806T165116Z
LAST-MODIFIED:20240806T165116Z
UID:3430-1736208000-1736294399@oppf13th.org
SUMMARY:Scholarship Submissions Due to Chapter
DESCRIPTION:
URL:https://oppf13th.org/calendar/scholarship-submissions-due-to-chapter/
END:VEVENT
BEGIN:VEVENT
DTSTART;VALUE=DATE:20250115
DTEND;VALUE=DATE:20250116
DTSTAMP:20260420T064433
CREATED:20240806T165127Z
LAST-MODIFIED:20240806T165127Z
UID:3433-1736899200-1736985599@oppf13th.org
SUMMARY:Social Action Chapter of the Year Submissions (Chapter Level)
DESCRIPTION:
URL:https://oppf13th.org/calendar/social-action-chapter-of-the-year-submissions-chapter-level/
END:VEVENT
BEGIN:VEVENT
DTSTART;TZID=America/New_York:20250125T130000
DTEND;TZID=America/New_York:20250125T130000
DTSTAMP:20260420T064433
CREATED:20240807T173604Z
LAST-MODIFIED:20240807T173604Z
UID:3495-1737810000-1737810000@oppf13th.org
SUMMARY:Bi-Monthly Committee Chair Call
DESCRIPTION:
URL:https://oppf13th.org/calendar/bi-monthly-committee-chair-call-3/
END:VEVENT
BEGIN:VEVENT
DTSTART;VALUE=DATE:20250131
DTEND;VALUE=DATE:20250201
DTSTAMP:20260420T064433
CREATED:20240806T165115Z
LAST-MODIFIED:20240806T165115Z
UID:3428-1738281600-1738367999@oppf13th.org
SUMMARY:1st Quarter Reports Due
DESCRIPTION:
URL:https://oppf13th.org/calendar/1st-quarter-reports-due/
END:VEVENT
END:VCALENDAR